BEGIN:VCALENDAR
VERSION:2.0
PRODID:-//Life Style Champion - ECPv6.2.9//NONSGML v1.0//EN
CALSCALE:GREGORIAN
METHOD:PUBLISH
X-ORIGINAL-URL:https://lifestylechamps.com
X-WR-CALDESC:Events for Life Style Champion
REFRESH-INTERVAL;VALUE=DURATION:PT1H
X-Robots-Tag:noindex
X-PUBLISHED-TTL:PT1H
BEGIN:VTIMEZONE
TZID:UTC
BEGIN:STANDARD
TZOFFSETFROM:+0000
TZOFFSETTO:+0000
TZNAME:UTC
DTSTART:20210101T000000
END:STANDARD
END:VTIMEZONE
BEGIN:VEVENT
DTSTART;TZID=UTC:20210719T190000
DTEND;TZID=UTC:20210723T200000
DTSTAMP:20260421T100757
CREATED:20210719T084502Z
LAST-MODIFIED:20210720T065327Z
UID:2937-1626721200-1627070400@lifestylechamps.com
SUMMARY:The Influence of Your Lifestyle Choices on your Eye-Health
DESCRIPTION:Lifestyle Champions International cordially invites you to its upcoming webinar. \nTopic: The Influence of Lifestyle Choices on Eye-health  \nSpeaker: Dr Femi Ibrahim\, Consultant Opthalmologist  \nDate: 23rd July 2021 \nTime: 7:00 pm\, West Africa Central time (Lagos) \nVenue: Zoom \n\n\n\n\n\n\nName\n\n	Title\n	\n					\n\n\n	First Name *\n	\n					\n\n\n	Surname *\n	\n					\n\n\n	Contact number\n	\n					\n\n\n	Email *\n	\n					\n\n\n	Industry *\n	\n					\n\n\n	Country *\n	\n					\n\n\n	Questions & Comments\n	\n		\n			\n\n\n	Would you like to receive newsletter updates from Lifestyle Champions International? *
URL:https://lifestylechamps.com/events/the-influence-of-your-lifestyle-choices-on-your-eye-health/
ATTACH;FMTTYPE=image/png:https://lifestylechamps.com/wp-content/uploads/2021/07/71AFB110-DE40-4A7E-BB94-98A583B18424.png
END:VEVENT
END:VCALENDAR